{"text_format":"1","workbook":"xlsx","n_sheets":12,"sheets":["労務外注","総括表","内訳明細書","記入例　 （登録事業者)","総括表 (記入例)","内訳明細書 (記入例)","労務外注 (免税事業者)","記入例（登録事業者) (複数税率)","総括表 (記入例) (複数税率)","内訳明細書 (記入例) (複数税率)","労務外注 (保留金解除方法)　修正中","総括表 (保留金解除方法)修正中"],"not_rendered":{"charts":0,"images":2,"macros":1,"external_links":0,"defined_names":12,"comments":2,"pivot_tables":0},"unopened":[],"bounds":{"document_bytes":16777216,"sheet_cells":100000,"rows_first":2000,"rows_last":500,"rows_between":2000,"halvings":0,"cell_chars":16384,"cell_head_chars":4096},"cells_cut":0,"cells_raw":0,"read":"whole","date_system":"1900"}

{"sheet":"労務外注","index":0,"n_rows":59,"n_cols":37,"rows_kept":59,"cut":false,"hidden":false,"merged":[[1,25,2,26],[4,24,4,25],[4,27,4,28],[4,30,4,31],[6,5,6,12],[8,0,9,9],[14,21,14,31],[10,18,10,23],[13,6,13,13],[9,18,9,19],[15,0,15,5],[15,7,15,13],[16,0,16,5],[16,7,16,13],[17,0,17,5],[17,7,17,31],[11,6,12,13],[11,14,12,14],[11,21,11,31],[12,1,12,2],[12,21,12,31],[13,21,13,31],[19,0,19,5],[19,8,19,12],[19,17,19,21],[19,26,19,30],[20,0,22,0],[20,2,20,4],[20,6,20,13],[20,15,20,22],[20,24,20,31],[21,2,21,4],[23,2,23,4],[23,6,23,13],[23,15,23,22],[23,24,23,31],[24,2,24,4],[24,6,24,13],[24,15,24,22],[24,24,24,31],[21,6,21,13],[21,15,21,22],[21,24,21,31],[22,2,22,4],[22,6,22,13],[22,15,22,22],[22,24,22,31],[27,6,27,13],[27,15,27,22],[27,24,27,31],[28,0,30,0],[28,2,28,4],[28,6,30,14],[28,15,30,23],[28,24,28,31],[29,2,29,4],[29,24,29,31],[25,0,27,0],[25,2,25,4],[25,6,25,13],[25,15,25,22],[25,24,25,31],[26,2,26,4],[26,6,26,13],[26,15,26,22],[26,24,26,31],[27,2,27,4],[30,2,30,4],[30,24,30,31],[48,1,48,14],[48,19,49,30],[48,31,49,33],[37,5,39,22],[43,1,43,14],[43,19,43,23],[43,24,43,30],[43,31,43,33],[44,1,44,14],[44,19,44,23],[44,24,44,30],[44,31,44,33],[33,0,37,1],[33,25,33,31],[34,3,34,9],[35,3,35,9],[36,2,39,2],[36,3,36,4],[36,5,36,22],[36,25,36,31],[45,19,46,23],[45,24,46,30],[45,31,46,33],[46,1,46,14],[58,0,58,13],[50,1,50,14],[50,19,51,23],[50,24,51,30],[50,31,51,33],[52,19,52,23],[52,24,52,30],[52,31,52,33],[55,21,55,25],[55,29,55,33],[56,21,56,25],[56,29,56,33],[57,21,57,25],[57,29,57,33],[54,21,54,25],[58,22,58,33]]}
[null,null,null,null,null,null,null,null,null,null,null,null,null,null,null,null,null,null,null,null,null,null,null,null,null,null,null,null,"※弊社記入欄"]
[]
[null,null,null,null,null,null,null,null,null,null,null,null,"請",null,null,null,null,"求",null,null,null,null,"書"]
[]
[null,null,null,null,null,null,null,null,null,null,null,null,null,null,null,null,null,null,null,null,null,null,"令","和",5,null,"年",10,null,"月",15,null,"日"]
[]
[null,"株式会社",null,null,null,"キクチコーポレーション",null,null,null,null,null,null,null,"御中"]
[null,null,null,null,null,null,null,null,null,null,null,null,null,null,null,null,null,null,null,null,null,null,null,null,"協力会社ｺｰﾄﾞ："]
["   下記の通り請求いたします｡",null,null,null,null,null,null,null,null,null,null,null,null,null,null,null,null,null,"登録番号："]
[]
[null,null,null,null,null,null,null,null,null,null,null,null,null,null,null,null,null,null,"請求者住所･氏名･印"]
[null,"請","求","金","額",null,{"$f":"SUM(P28)","v":0},null,null,null,null,null,null,null,null,null,null,null,null,"住所"]
[null,{"$f":"AB5","v":10},null,"月","分"]
[null,null,null,null,null,null,null,null,null,null,null,null,null,null,null,null,null,null,null,"氏名"]
[null,null,null,null,null,null,null,null,null,null,null,null,null,null,null,null,null,null,null,null,null,"　　　　　　　　　　　　　　　　印"]
["工 事 番 号"]
["工 事 略 称"]
["工 事 件 名"]
[]
["項      目",null,null,null,null,null,null,null,"前回迄",null,null,null,null,null,null,null,null,"今回",null,null,null,null,null,null,null,null,"累計"]
["①",null,"契約金額",null,null,null,{"$f":"総括表!G32","v":0},null,null,null,null,null,null,null,null,{"$f":"総括表!G33","v":0},null,null,null,null,null,null,null,null,{"$f":"SUM(G21,P21)","v":0}]
[null,null,"消費税",null,null,null,{"$f":"INT(G21*10%)","v":0},null,null,null,null,null,null,null,null,{"$f":"INT(P21*10%)","v":0},null,null,null,null,null,null,null,null,{"$f":"SUM(G22,P22)","v":0}]
[null,null,"契約合計",null,null,null,{"$f":"SUM(G21:N22)","v":0},null,null,null,null,null,null,null,null,{"$f":"SUM(P21:W22)","v":0},null,null,null,null,null,null,null,null,{"$f":"SUM(Y21:AF22)","v":0}]
["②",null,"出来高金額",null,null,null,{"$f":"総括表!I35","v":0},null,null,null,null,null,null,null,null,{"$f":"SUM(総括表!K35)","v":0},null,null,null,null,null,null,null,null,{"$f":"SUM(G24,P24)","v":0}]
["③",null,"保留金額",null,null,null,{"$f":"SUM(総括表!I36)","v":0},null,null,null,null,null,null,null,null,{"$f":"SUM(総括表!K36)","v":0},null,null,null,null,null,null,null,null,{"$f":"SUM(G25,P25)","v":0}]
["④",null,"請求金額       ②＋③",null,null,null,{"$f":"SUM(G24:N25)","v":0},null,null,null,null,null,null,null,null,{"$f":"SUM(P24:W25)","v":0},null,null,null,null,null,null,null,null,{"$f":"SUM(Y24:AF25)","v":0}]
[null,null,"消費税",null,null,null,{"$f":"総括表!I38","v":0},null,null,null,null,null,null,null,null,{"$f":"+AD56+AD57+AD58","v":0},null,null,null,null,null,null,null,null,{"$f":"SUM(G27,P27)","v":0}]
[null,null,"請求合計",null,null,null,{"$f":"SUM(G26:N27)","v":0},null,null,null,null,null,null,null,null,{"$f":"SUM(P26:W27)","v":0},null,null,null,null,null,null,null,null,{"$f":"SUM(Y26:AG27)","v":0}]
["⑤",null,"残    高        ①－④",null,null,null,null,null,null,null,null,null,null,null,null,null,null,null,null,null,null,null,null,null,{"$f":"Y21-Y26","v":0}]
[null,null,"消費税        ①－④",null,null,null,null,null,null,null,null,null,null,null,null,null,null,null,null,null,null,null,null,null,{"$f":"Y22-Y27","v":0}]
[null,null,"残高合計        ①－④",null,null,null,null,null,null,null,null,null,null,null,null,null,null,null,null,null,null,null,null,null,{"$f":"SUM(Y29:AF30)","v":0}]
[]
[null,null,null,null,null,null,null,null,null,null,"銀","行","・","金","庫","・","組","合"]
["振込銀行",null,null,null,null,null,null,null,null,null,null,null,null,null,null,"本","・","支","店",null,null,null,null,null,null,"毎月１５日締切"]
[null,null,null,"預金種別",null,null,null,null,null,null,null,null,"（","普","通","１","・","当","座","２","）",null,null,null,null,null,null,null,null,null,null,null,null,null," "]
[null,null,null,"口座番号"]
[null,null,"口座名義","ﾌﾘｶﾞﾅ",null,null,null,null,null,null,null,null,null,null,null,null,null,null,null,null,null,null,null,null,null,"毎月２０日必着"]
[]
[]
[]
[]
[]
[null,null,null,null,null,null,null,null,null,null,null,null,null,null,null,null,null,null,null,null,null,null,null,null,null,null,null,null,null,null,null,null,null,null,null,null," "]
[null,"　社是",null,null,null,null,null,null,null,null,null,null,null,null,null,null,null,null,null,"押印欄（弊社利用）"]
[null,"　心にゆとりと豊かさを"]
[]
[null,"　スローガン"]
[]
[null,"「顧客感動」・「コンプライアンス行動」"]
[]
[null,"　お客様と社会から信頼される企業へ"]
[]
[]
[null,null,null,null,null,null,null,null,null,null,null,null,null,null,null,null,"（税率ごとに区分した記載をお願いします）"]
[null,null,null,null,null,null,null,null,null,null,null,null,null,null,null,null,"今回請求金額",null,null,null,null,{"$f":"SUM(V56:Z58,AD56:AH58)","v":0}]
[null,null,null,null,null,null,null,null,null,null,null,null,null,null,null,null,"うち消費税率10％",null,null,null,null,null,null,null,null,null,"消費税",null,null,null,null,null,null,null,{"$f":"+V56+AD56","v":0}]
[null,null,null,null,null,null,null,null,null,null,null,null,null,null,null,null,"うち消費税率8％",null,null,null,null,null,null,null,null,null,"消費税",null,null,null,null,null,null,null,{"$f":"+V57+AD57","v":0}]
[null,null,null,null,null,null,null,null,null,null,null,null,null,null,null,null,"対象外",null,null,null,null,null,null,null,null,null,"消費税",null,null,null,null,null,null,null,0]
[null,null,null,null,null,null,null,null,null,null,null,null,null,null,null,null,null,null,null,null,null,null,"株式会社 キクチコーポレーション",null,null,null,null,null,null,null,null,null,null,null,{"$f":"SUM(AI56:AI58)","v":0},{"$f":"+G12-AI59","v":0}]

{"sheet":"総括表","index":1,"n_rows":44,"n_cols":14,"rows_kept":44,"cut":false,"hidden":false,"merged":[[35,0,35,2],[0,2,0,12],[1,0,3,2],[1,3,2,6],[1,7,2,8],[1,9,2,10],[1,11,2,12],[1,13,2,13],[31,0,31,2],[32,0,32,2],[33,0,33,2],[34,0,34,2],[36,0,36,2],[37,0,37,2],[38,0,38,2],[43,0,43,4],[43,9,43,13]]}
[null,null,"総括表",null,null,null,null,null,null,null,null,null,null,"No. 1"]
["工　　　　種",null,null,"契　　　　　約",null,null,null,"前回迄出来高",null,"今回出来高",null,"累計出来高",null,"残　　　高"]
[]
[null,null,null,"数　量","単位","単　価","金　　額","数　量","金　　額","数　量","金　　額","数　量","金　　額","金　　額"]
[]
[]
[]
[]
[]
[]
[]
[]
[]
[]
[]
[]
[]
[]
[]
[]
[]
[]
[]
[]
[]
[]
[]
[]
[]
[]
[]
["契約金額"]
["今回変更"]
["契約累計",null,null,null,null,null,{"$f":"SUM(G32:G33)","v":0}]
["出来高金額",null,null,null,null,null,null,null,null,null,null,null,{"$f":"SUM(I35,K35)","v":0},{"$f":"SUM(G34-M35)","v":0}]
["保留金額",null,null,null,null,null,null,null,{"$f":"-I35*5%","v":0},null,{"$f":"-K35*5%","v":0},null,{"$f":"SUM(I36,K36)","v":0},{"$f":"-(M36)","v":0}]
["請求金額",null,null,null,null,null,{"$f":"G34","v":0},null,{"$f":"SUM(I35:I36)","v":0},null,{"$f":"SUM(K35:K36)","v":0},null,{"$f":"SUM(I37+K37)","v":0},{"$f":"SUM(N35:N36)","v":0}]
["消 費 税",null,null,null,null,null,{"$f":"INT(G37*10%)","v":0},null,{"$f":"INT(I37*10%)","v":0},null,{"$f":"INT(K37*10%)","v":0},null,{"$f":"I38+K38","v":0},{"$f":"G38-M38","v":0}]
["合    計",null,null,null,null,null,{"$f":"SUM(G37:G38)","v":0},null,{"$f":"SUM(I37:I38)","v":0},null,{"$f":"SUM(K37:K38)","v":0},null,{"$f":"SUM(M37:M38)","v":0},{"$f":"SUM(N37:N38)","v":0}]
[null,null,"※軽減税率対象項目はその旨を示してください"]
[]
[]
[]
[null,null,null,null,null,null,null,null,null,"株式会社 キクチコーポレーション"]

{"sheet":"内訳明細書","index":2,"n_rows":44,"n_cols":14,"rows_kept":44,"cut":false,"hidden":false,"merged":[[1,13,2,13],[43,0,43,4],[0,2,0,12],[1,0,3,2],[1,3,2,6],[1,7,2,8],[1,9,2,10],[1,11,2,12],[43,9,43,13]]}
[null,null,"内訳明細書",null,null,null,null,null,null,null,null,null,null,"No. 1"]
["工　　　　種",null,null,"契　　　　　約",null,null,null,"前回迄出来高",null,"今回出来高",null,"累計出来高",null,"残　　　高"]
[]
[null,null,null,"数　量","単位","単　価","金　　額","数　量","金　　額","数　量","金　　額","数　量","金　　額","金　　額"]
[]
[]
[]
[]
[]
[]
[]
[]
[]
[]
[]
[]
[]
[]
[]
[]
[]
[]
[]
[]
[]
[]
[]
[]
[]
[]
[]
[]
[]
[]
[]
[]
[]
[]
[]
[]
[null,null,"※軽減税率対象項目はその旨を示してください"]
[]
[]
[null,null,null,null,null,null,null,null,null,"株式会社 キクチコーポレーション"]

{"sheet":"記入例　 （登録事業者)","index":3,"n_rows":59,"n_cols":37,"rows_kept":59,"cut":false,"hidden":false,"merged":[[58,0,58,13],[9,18,9,19],[54,21,54,25],[55,21,55,25],[55,29,55,33],[56,21,56,25],[56,29,56,33],[57,21,57,25],[57,29,57,33],[50,1,50,14],[50,19,51,23],[50,24,51,30],[50,31,51,33],[52,19,52,23],[52,24,52,30],[52,31,52,33],[45,19,46,23],[45,24,46,30],[45,31,46,33],[46,1,46,14],[48,1,48,14],[48,19,49,30],[48,31,49,33],[43,1,43,14],[43,19,43,23],[43,24,43,30],[43,31,43,33],[44,1,44,14],[44,19,44,23],[44,24,44,30],[44,31,44,33],[33,0,37,1],[33,25,33,31],[34,3,34,9],[35,3,35,9],[36,2,39,2],[36,3,36,4],[36,5,36,22],[36,25,36,31],[37,5,39,22],[28,0,30,0],[28,2,28,4],[28,6,30,14],[28,15,30,23],[28,24,28,31],[29,2,29,4],[29,24,29,31],[30,2,30,4],[30,24,30,31],[22,2,22,4],[26,6,26,13],[26,15,26,22],[26,24,26,31],[27,2,27,4],[27,6,27,13],[27,15,27,22],[27,24,27,31],[24,2,24,4],[24,6,24,13],[24,15,24,22],[24,24,24,31],[16,0,16,5],[16,7,16,13],[25,0,27,0],[25,2,25,4],[25,6,25,13],[25,15,25,22],[25,24,25,31],[26,2,26,4],[22,6,22,13],[22,15,22,22],[22,24,22,31],[23,2,23,4],[23,6,23,13],[23,15,23,22],[23,24,23,31],[20,0,22,0],[20,2,20,4],[20,6,20,13],[20,15,20,22],[20,24,20,31],[21,2,21,4],[21,6,21,13],[21,15,21,22],[21,24,21,31],[58,22,58,33],[10,18,10,23],[11,6,12,13],[11,14,12,14],[11,21,11,31],[12,1,12,2],[12,21,12,31],[1,25,2,26],[4,24,4,25],[4,27,4,28],[4,30,4,31],[6,5,6,12],[8,0,9,9],[17,0,17,5],[17,7,17,31],[19,0,19,5],[19,8,19,12],[19,17,19,21],[19,26,19,30],[13,6,13,13],[13,21,13,31],[14,21,14,31],[15,0,15,5],[15,7,15,13]]}
[null,null,null,null,null,null,null,null,null,null,null,null,null,null,null,null,null,null,null,null,null,null,null,null,null,null,null,null,"※弊社記入欄"]
[]
[null,null,null,null,null,null,null,null,null,null,null,null,"請",null,null,null,null,"求",null,null,null,null,"書"]
[]
[null,null,null,null,null,null,null,null,null,null,null,null,null,null,null,null,null,null,null,null,null,null,"令","和",5,null,"年",10,null,"月",15,null,"日"]
[]
[null,"株式会社",null,null,null,"キクチコーポレーション",null,null,null,null,null,null,null,"御中"]
[null,null,null,null,null,null,null,null,null,null,null,null,null,null,null,null,null,null,null,null,null,null,null,null,"協力会社ｺｰﾄﾞ：",null,null,null,2,1,0,0,4]
["   下記の通り請求いたします｡",null,null,null,null,null,null,null,null,null,null,null,null,null,null,null,null,null,"登録番号："]
[null,null,null,null,null,null,null,null,null,null,null,null,null,null,null,null,null,null,"T",null,5,0,1,2,4,0,1,0,1,4,4,4,0]
[null,null,null,null,null,null,null,null,null,null,null,null,null,null,null,null,null,null,"請求者住所･氏名･印"]
[null,"請","求","金","額",null,{"$f":"SUM(P28)","v":20900},null,null,null,null,null,null,null,null,null,null,null,null,"住所",null,"〒181-0011　三鷹市井口3-19-23"]
[null,{"$f":"AB5","v":10},null,"月","分"]
[null,null,null,null,null,null,null,null,null,null,null,null,null,null,null,null,null,null,null,"氏名",null,"株式会社 カナエコーポレーション"]
[null,null,null,null,null,null,null,null,null,null,null,null,null,null,null,null,null,null,null,null,null,"　　　　　　　　　　　　　　　　印"]
["工 事 番 号",null,null,null,null,null,null,"07-○○"]
["工 事 略 称",null,null,null,null,null,null,"○○水道"]
["工 事 件 名",null,null,null,null,null,null,"○○地区配水管第□号"]
[]
["項      目",null,null,null,null,null,null,null,"前回迄",null,null,null,null,null,null,null,null,"今回",null,null,null,null,null,null,null,null,"累計"]
["①",null,"契約金額",null,null,null,{"$f":"+'総括表 (記入例)'!G32","v":50000},null,null,null,null,null,null,null,null,{"$f":"総括表!G33","v":0},null,null,null,null,null,null,null,null,{"$f":"SUM(G21,P21)","v":50000}]
[null,null,"消費税",null,null,null,{"$f":"INT(G21*10%)","v":5000},null,null,null,null,null,null,null,null,{"$f":"INT(P21*10%)","v":0},null,null,null,null,null,null,null,null,{"$f":"SUM(G22,P22)","v":5000}]
[null,null,"契約合計",null,null,null,{"$f":"SUM(G21:N22)","v":55000},null,null,null,null,null,null,null,null,{"$f":"SUM(P21:W22)","v":0},null,null,null,null,null,null,null,null,{"$f":"SUM(Y21:AF22)","v":55000}]
["②",null,"出来高金額",null,null,null,{"$f":"+'総括表 (記入例)'!I35","v":15000},null,null,null,null,null,null,null,null,{"$f":"+'総括表 (記入例)'!K35","v":20000},null,null,null,null,null,null,null,null,{"$f":"SUM(G24,P24)","v":35000}]
["③",null,"保留金額",null,null,null,{"$f":"+'総括表 (記入例)'!I36","v":-750},null,null,null,null,null,null,null,null,{"$f":"+'総括表 (記入例)'!K36","v":-1000},null,null,null,null,null,null,null,null,{"$f":"SUM(G25,P25)","v":-1750}]
["④",null,"請求金額       ②＋③",null,null,null,{"$f":"SUM(G24:N25)","v":14250},null,null,null,null,null,null,null,null,{"$f":"SUM(P24:W25)","v":19000},null,null,null,null,null,null,null,null,{"$f":"SUM(Y24:AF25)","v":33250}]
[null,null,"消費税",null,null,null,{"$f":"+'総括表 (記入例)'!I38","v":1425},null,null,null,null,null,null,null,null,{"$f":"+AD56+AD57+AD58","v":1900},null,null,null,null,null,null,null,null,{"$f":"SUM(G27,P27)","v":3325}]
[null,null,"請求合計",null,null,null,{"$f":"SUM(G26:N27)","v":15675},null,null,null,null,null,null,null,null,{"$f":"SUM(P26:W27)","v":20900},null,null,null,null,null,null,null,null,{"$f":"SUM(Y26:AG27)","v":36575}]
["⑤",null,"残    高        ①－④",null,null,null,null,null,null,null,null,null,null,null,null,null,null,null,null,null,null,null,null,null,{"$f":"Y21-Y26","v":16750}]
[null,null,"消費税        ①－④",null,null,null,null,null,null,null,null,null,null,null,null,null,null,null,null,null,null,null,null,null,{"$f":"Y22-Y27","v":1675}]
[null,null,"残高合計        ①－④",null,null,null,null,null,null,null,null,null,null,null,null,null,null,null,null,null,null,null,null,null,{"$f":"SUM(Y29:AF30)","v":18425}]
[]
[null,null,"埼","玉","り","そ","な",null,null,null,"銀","行","・","金","庫","・","組","合",null,0,0,1,7]
["振込銀行",null,"和","光",null,null,null,null,null,null,null,null,null,null,null,"本","・","支","店",null,4,8,7,null,null,"毎月１５日締切"]
[null,null,null,"預金種別",null,null,null,null,null,null,null,null,"（","普","通","１","・","当","座","２","）",null,1,null,null,null,null,null,null,null,null,null,null,null," "]
[null,null,null,"口座番号",null,null,null,null,null,null,null,null,null,null,null,null,1,2,3,4,5,"＃","＃"]
[null,null,"口座名義","ﾌﾘｶﾞﾅ",null,"ｶ)ｶﾅｴｺｰﾎﾟﾚｰｼｮﾝ",null,null,null,null,null,null,null,null,null,null,null,null,null,null,null,null,null,null,null,"毎月２０日必着"]
[null,null,null,null,null,"株式会社カナエコーポレーション"]
[]
[]
[]
[]
[null,null,null,null,null,null,null,null,null,null,null,null,null,null,null,null,null,null,null,null,null,null,null,null,null,null,null,null,null,null,null,null,null,null,null,null," "]
[null,"　社是",null,null,null,null,null,null,null,null,null,null,null,null,null,null,null,null,null,"押印欄（弊社利用）"]
[null,"　心にゆとりと豊かさを"]
[]
[null,"　スローガン"]
[]
[null,"「顧客感動」・「コンプライアンス行動」"]
[]
[null,"　お客様と社会から信頼される企業へ"]
[]
[]
[null,null,null,null,null,null,null,null,null,null,null,null,null,null,null,null,"（税率ごとに区分した記載をお願いします）"]
[null,null,null,null,null,null,null,null,null,null,null,null,null,null,null,null,"今回請求金額",null,null,null,null,{"$f":"SUM(V56:Z58,AD56:AH58)","v":20900}]
[null,null,null,null,null,null,null,null,null,null,null,null,null,null,null,null,"うち消費税率10％",null,null,null,null,{"$f":"+'総括表 (記入例)'!K37","v":19000},null,null,null,null,"消費税",null,null,{"$f":"+V56*10%","v":1900},null,null,null,null,{"$f":"+V56+AD56","v":20900}]
[null,null,null,null,null,null,null,null,null,null,null,null,null,null,null,null,"うち消費税率8％",null,null,null,null,{"$f":"0","v":0},null,null,null,null,"消費税",null,null,{"$f":"+V57*8%","v":0},null,null,null,null,{"$f":"+V57+AD57","v":0}]
[null,null,null,null,null,null,null,null,null,null,null,null,null,null,null,null,"対象外",null,null,null,null,{"$f":"0","v":0},null,null,null,null,"消費税",null,null,{"$f":"0","v":0},null,null,null,null,0]
[null,null,null,null,null,null,null,null,null,null,null,null,null,null,null,null,null,null,null,null,null,null,"株式会社 キクチコーポレーション",null,null,null,null,null,null,null,null,null,null,null,{"$f":"SUM(AI56:AI58)","v":20900},{"$f":"+G12-AI59","v":0}]

{"sheet":"総括表 (記入例)","index":4,"n_rows":44,"n_cols":14,"rows_kept":44,"cut":false,"hidden":false,"merged":[[36,0,36,2],[37,0,37,2],[38,0,38,2],[43,0,43,4],[43,9,43,13],[1,13,2,13],[31,0,31,2],[32,0,32,2],[33,0,33,2],[34,0,34,2],[35,0,35,2],[0,2,0,12],[1,0,3,2],[1,3,2,6],[1,7,2,8],[1,9,2,10],[1,11,2,12]]}
[null,null,"総括表",null,null,null,null,null,null,null,null,null,null,"No. 1"]
["工　　　　種",null,null,"契　　　　　約",null,null,null,"前回迄出来高",null,"今回出来高",null,"累計出来高",null,"残　　　高"]
[]
[null,null,null,"数　量","単位","単　価","金　　額","数　量","金　　額","数　量","金　　額","数　量","金　　額","金　　額"]
[null,null,"工事費",1,"式",null,{"$f":"+'内訳明細書 (記入例)'!$G$8","v":50000},{"$f":"IF(I5=0,0,1)","v":1},{"$f":"+'内訳明細書 (記入例)'!$I$8","v":15000},{"$f":"IF(K5=0,0,1)","v":1},{"$f":"+'内訳明細書 (記入例)'!$K$8","v":20000},{"$f":"IF(M5=0,0,1)","v":1},{"$f":"+I5+K5","v":35000},{"$f":"+G5-M5","v":15000}]
[null,null,"計",null,null,null,{"$f":"SUM(G5)","v":50000},null,{"$f":"SUM(I5)","v":15000},null,{"$f":"SUM(K5)","v":20000},null,{"$f":"SUM(M5)","v":35000},{"$f":"SUM(N5)","v":15000}]
[]
[]
[]
[]
[]
[]
[]
[]
[]
[]
[]
[]
[]
[]
[]
[]
[]
[]
[]
[]
[]
[]
[]
[]
[]
["契約金額",null,null,null,null,null,{"$f":"SUM(G6)","v":50000}]
["今回変更"]
["契約累計",null,null,null,null,null,{"$f":"SUM(G32:G33)","v":50000}]
["出来高金額",null,null,null,null,null,null,null,15000,null,{"$f":"+K5","v":20000},null,{"$f":"SUM(I35,K35)","v":35000},{"$f":"SUM(G34-M35)","v":15000}]
["保留金額",null,null,null,null,null,null,null,{"$f":"-I35*5%","v":-750},null,{"$f":"-K35*5%","v":-1000},null,{"$f":"SUM(I36,K36)","v":-1750},{"$f":"-(M36)","v":1750}]
["請求金額",null,null,null,null,null,{"$f":"G34","v":50000},null,{"$f":"SUM(I35:I36)","v":14250},null,{"$f":"SUM(K35:K36)","v":19000},null,{"$f":"SUM(I37+K37)","v":33250},{"$f":"SUM(N35:N36)","v":16750}]
["消 費 税",null,null,null,null,null,{"$f":"INT(G37*10%)","v":5000},null,{"$f":"INT(I37*10%)","v":1425},null,{"$f":"INT(K37*10%)","v":1900},null,{"$f":"I38+K38","v":3325},{"$f":"G38-M38","v":1675}]
["合    計",null,null,null,null,null,{"$f":"SUM(G37:G38)","v":55000},null,{"$f":"SUM(I37:I38)","v":15675},null,{"$f":"SUM(K37:K38)","v":20900},null,{"$f":"SUM(M37:M38)","v":36575},{"$f":"SUM(N37:N38)","v":18425}]
[null,null,"※軽減税率対象項目はその旨を示してください"]
[]
[]
[]
[null,null,null,null,null,null,null,null,null,"株式会社 キクチコーポレーション"]

{"sheet":"内訳明細書 (記入例)","index":5,"n_rows":44,"n_cols":14,"rows_kept":44,"cut":false,"hidden":false,"merged":[[1,13,2,13],[43,0,43,4],[0,2,0,12],[1,0,3,2],[1,3,2,6],[1,7,2,8],[1,9,2,10],[1,11,2,12],[43,9,43,13]]}
[null,null,"内訳明細書",null,null,null,null,null,null,null,null,null,null,"No. 1"]
["工　　　　種",null,null,"契　　　　　約",null,null,null,"前回迄出来高",null,"今回出来高",null,"累計出来高",null,"残　　　高"]
[]
[null,null,null,"数　量","単位","単　価","金　　額","数　量","金　　額","数　量","金　　額","数　量","金　　額","金　　額"]
[null,null,"工事費"]
[null,null,"内訳①",9,"回",5000,{"$f":"+D6*F6","v":45000},3,{"$f":"+H6*F6","v":15000},3,{"$f":"+J6*F6","v":15000},{"$f":"+H6+J6","v":6},{"$f":"+I6+K6","v":30000},{"$f":"+G6-M6","v":15000}]
[null,null,"内訳②",10,"箇所",500,{"$f":"+D7*F7","v":5000},0,{"$f":"+H7*F7","v":0},10,{"$f":"+J7*F7","v":5000},{"$f":"+H7+J7","v":10},{"$f":"+I7+K7","v":5000},{"$f":"+G7-M7","v":0}]
[null,null,"計",null,null,null,{"$f":"SUM(G6:G7)","v":50000},null,{"$f":"SUM(I6:I7)","v":15000},null,{"$f":"SUM(K6:K7)","v":20000},null,{"$f":"SUM(M6:M7)","v":35000},{"$f":"SUM(N6:N7)","v":15000}]
[]
[null,null,"内訳③　※軽減税率対象"]
[]
[]
[]
[]
[]
[]
[]
[]
[]
[]
[]
[]
[]
[]
[]
[]
[]
[]
[]
[]
[]
[]
[]
[]
[]
[]
[]
[]
[]
[]
[]
[]
[]
[null,null,null,null,null,null,null,null,null,"株式会社 キクチコーポレーション"]

{"sheet":"労務外注 (免税事業者)","index":6,"n_rows":59,"n_cols":37,"rows_kept":59,"cut":false,"hidden":false,"merged":[[10,18,10,23],[11,6,12,13],[11,14,12,14],[11,21,11,31],[12,1,12,2],[12,21,12,31],[1,25,2,26],[4,24,4,25],[4,27,4,28],[4,30,4,31],[6,5,6,12],[8,0,9,9],[9,18,9,19],[17,0,17,5],[17,7,17,31],[19,0,19,5],[19,8,19,12],[19,17,19,21],[19,26,19,30],[13,6,13,13],[13,21,13,31],[14,21,14,31],[15,0,15,5],[15,7,15,13],[16,0,16,5],[16,7,16,13],[25,0,27,0],[25,2,25,4],[25,6,25,13],[25,15,25,22],[25,24,25,31],[26,2,26,4],[22,6,22,13],[22,15,22,22],[22,24,22,31],[23,2,23,4],[23,6,23,13],[23,15,23,22],[23,24,23,31],[20,0,22,0],[20,2,20,4],[20,6,20,13],[20,15,20,22],[20,24,20,31],[21,2,21,4],[21,6,21,13],[21,15,21,22],[21,24,21,31],[22,2,22,4],[26,6,26,13],[26,15,26,22],[26,24,26,31],[27,2,27,4],[27,6,27,13],[27,15,27,22],[27,24,27,31],[24,2,24,4],[24,6,24,13],[24,15,24,22],[24,24,24,31],[28,0,30,0],[28,2,28,4],[28,6,30,14],[28,15,30,23],[28,24,28,31],[29,2,29,4],[29,24,29,31],[30,2,30,4],[30,24,30,31],[43,1,43,14],[43,19,43,23],[43,24,43,30],[43,31,43,33],[44,1,44,14],[44,19,44,23],[44,24,44,30],[44,31,44,33],[33,0,37,1],[33,25,33,31],[34,3,34,9],[35,3,35,9],[36,2,39,2],[36,3,36,4],[36,5,36,22],[36,25,36,31],[37,5,39,22],[50,1,50,14],[50,19,51,23],[50,24,51,30],[50,31,51,33],[52,19,52,23],[52,24,52,30],[52,31,52,33],[45,19,46,23],[45,24,46,30],[45,31,46,33],[46,1,46,14],[48,1,48,14],[48,19,49,30],[48,31,49,33],[58,0,58,13],[54,21,54,25],[55,21,55,25],[55,29,55,33],[56,21,56,25],[56,29,56,33],[57,21,57,25],[57,29,57,33],[58,22,58,33]]}
[null,null,null,null,null,null,null,null,null,null,null,null,null,null,null,null,null,null,null,null,null,null,null,null,null,null,null,null,"※弊社記入欄"]
[]
[null,null,null,null,null,null,null,null,null,null,null,null,"請",null,null,null,null,"求",null,null,null,null,"書"]
[]
[null,null,null,null,null,null,null,null,null,null,null,null,null,null,null,null,null,null,null,null,null,null,"令","和",5,null,"年",10,null,"月",15,null,"日"]
[]
[null,"株式会社",null,null,null,"キクチコーポレーション",null,null,null,null,null,null,null,"御中"]
[null,null,null,null,null,null,null,null,null,null,null,null,null,null,null,null,null,null,null,null,null,null,null,null,"協力会社ｺｰﾄﾞ：",null,null,null,2,"＃","＃","＃","＃"]
["   下記の通り請求いたします｡",null,null,null,null,null,null,null,null,null,null,null,null,null,null,null,null,null,"登録番号："]
[null,null,null,null,null,null,null,null,null,null,null,null,null,null,null,null,null,null,null,null,null,null,null,null,null,null,null,null,"免","税","事","業","者"]
[null,null,null,null,null,null,null,null,null,null,null,null,null,null,null,null,null,null,"請求者住所･氏名･印"]
[null,"請","求","金","額",null,{"$f":"SUM(P28)","v":209000},null,null,null,null,null,null,null,null,null,null,null,null,"住所",null,"〒○○○-＃＃＃＃ 練馬区西大泉△△"]
[null,{"$f":"AB5","v":10},null,"月","分"]
[null,null,null,null,null,null,null,null,null,null,null,null,null,null,null,null,null,null,null,"氏名",null,"株式会社 ○○○コーポレーション"]
[null,null,null,null,null,null,null,null,null,null,null,null,null,null,null,null,null,null,null,null,null,"　　　　　　　　　　　　　　　　印"]
["工 事 番 号",null,null,null,null,null,null,"07-○○"]
["工 事 略 称",null,null,null,null,null,null,"○○水道"]
["工 事 件 名",null,null,null,null,null,null,"○○地区配水管第□号"]
[]
["項      目",null,null,null,null,null,null,null,"前回迄",null,null,null,null,null,null,null,null,"今回",null,null,null,null,null,null,null,null,"累計"]
["①",null,"契約金額",null,null,null,500000,null,null,null,null,null,null,null,null,{"$f":"総括表!G33","v":0},null,null,null,null,null,null,null,null,{"$f":"SUM(G21,P21)","v":500000}]
[null,null,"消費税",null,null,null,{"$f":"INT(G21*10%)","v":50000},null,null,null,null,null,null,null,null,{"$f":"INT(P21*10%)","v":0},null,null,null,null,null,null,null,null,{"$f":"SUM(G22,P22)","v":50000}]
[null,null,"契約合計",null,null,null,{"$f":"SUM(G21:N22)","v":550000},null,null,null,null,null,null,null,null,{"$f":"SUM(P21:W22)","v":0},null,null,null,null,null,null,null,null,{"$f":"SUM(Y21:AF22)","v":550000}]
["②",null,"出来高金額",null,null,null,300000,null,null,null,null,null,null,null,null,200000,null,null,null,null,null,null,null,null,{"$f":"SUM(G24,P24)","v":500000}]
["③",null,"保留金額",null,null,null,-15000,null,null,null,null,null,null,null,null,-10000,null,null,null,null,null,null,null,null,{"$f":"SUM(G25,P25)","v":-25000}]
["④",null,"請求金額       ②＋③",null,null,null,{"$f":"SUM(G24:N25)","v":285000},null,null,null,null,null,null,null,null,{"$f":"SUM(P24:W25)","v":190000},null,null,null,null,null,null,null,null,{"$f":"SUM(Y24:AF25)","v":475000}]
[null,null,"消費税",null,null,null,{"$f":"INT(G26*10%)","v":28500},null,null,null,null,null,null,null,null,{"$f":"INT(P26*10%)","v":19000},null,null,null,null,null,null,null,null,{"$f":"SUM(G27,P27)","v":47500}]
[null,null,"請求合計",null,null,null,{"$f":"SUM(G26:N27)","v":313500},null,null,null,null,null,null,null,null,{"$f":"SUM(P26:W27)","v":209000},null,null,null,null,null,null,null,null,{"$f":"SUM(Y26:AG27)","v":522500}]
["⑤",null,"残    高        ①－④",null,null,null,null,null,null,null,null,null,null,null,null,null,null,null,null,null,null,null,null,null,{"$f":"Y21-Y26","v":25000}]
[null,null,"消費税        ①－④",null,null,null,null,null,null,null,null,null,null,null,null,null,null,null,null,null,null,null,null,null,{"$f":"Y22-Y27","v":2500}]
[null,null,"残高合計        ①－④",null,null,null,null,null,null,null,null,null,null,null,null,null,null,null,null,null,null,null,null,null,{"$f":"SUM(Y29:AF30)","v":27500}]
[]
[null,null,"埼","玉","り","そ","な",null,null,null,"銀","行","・","金","庫","・","組","合",null,0,0,1,7]
["振込銀行",null,"和","光",null,null,null,null,null,null,null,null,null,null,null,"本","・","支","店",null,4,8,7,null,null,"毎月１５日締切"]
[null,null,null,"預金種別",null,null,null,null,null,null,null,null,"（","普","通","１","・","当","座","２","）",null,1,null,null,null,null,null,null,null,null,null,null,null," "]
[null,null,null,"口座番号",null,null,null,null,null,null,null,null,null,null,null,null,1,2,3,4,5,"＃","＃"]
[null,null,"口座名義","ﾌﾘｶﾞﾅ",null,"ｶ)○○○ｺｰﾎﾟﾚｰｼｮﾝ",null,null,null,null,null,null,null,null,null,null,null,null,null,null,null,null,null,null,null,"毎月２０日必着"]
[null,null,null,null,null,"株式会社 ○○○コーポレーション"]
[]
[]
[]
[]
[null,null,null,null,null,null,null,null,null,null,null,null,null,null,null,null,null,null,null,null,null,null,null,null,null,null,null,null,null,null,null,null,null,null,null,null," "]
[null,"　社是",null,null,null,null,null,null,null,null,null,null,null,null,null,null,null,null,null,"押印欄（弊社利用）"]
[null,"　心にゆとりと豊かさを"]
[]
[null,"　スローガン"]
[]
[null,"「顧客感動」・「コンプライアンス行動」"]
[]
[null,"　お客様と社会から信頼される企業へ"]
[]
[]
[null,null,null,null,null,null,null,null,null,null,null,null,null,null,null,null,"（税率ごとに区分した記載をお願いします）"]
[null,null,null,null,null,null,null,null,null,null,null,null,null,null,null,null,"今回請求金額",null,null,null,null,{"$f":"SUM(V56,V57,V58,AD56,AD57,AD58)","v":209000}]
[null,null,null,null,null,null,null,null,null,null,null,null,null,null,null,null,"うち消費税率10％",null,null,null,null,{"$f":"+P26","v":190000},null,null,null,null,"消費税",null,null,{"$f":"+V56*10%","v":19000}]
[null,null,null,null,null,null,null,null,null,null,null,null,null,null,null,null,"うち消費税率8％",null,null,null,null,{"$f":"0","v":0},null,null,null,null,"消費税",null,null,{"$f":"+V57*8%","v":0}]
[null,null,null,null,null,null,null,null,null,null,null,null,null,null,null,null,"対象外",null,null,null,null,{"$f":"0","v":0},null,null,null,null,"消費税",null,null,{"$f":"0","v":0}]
[null,null,null,null,null,null,null,null,null,null,null,null,null,null,null,null,null,null,null,null,null,null,"株式会社 キクチコーポレーション"]

{"sheet":"記入例（登録事業者) (複数税率)","index":7,"n_rows":59,"n_cols":37,"rows_kept":59,"cut":false,"hidden":false,"merged":[[58,0,58,13],[54,21,54,25],[55,21,55,25],[55,29,55,33],[56,21,56,25],[56,29,56,33],[57,21,57,25],[57,29,57,33],[58,22,58,33],[50,1,50,14],[50,19,51,23],[50,24,51,30],[50,31,51,33],[52,19,52,23],[52,24,52,30],[52,31,52,33],[45,19,46,23],[45,24,46,30],[45,31,46,33],[46,1,46,14],[48,1,48,14],[48,19,49,30],[48,31,49,33],[43,1,43,14],[43,19,43,23],[43,24,43,30],[43,31,43,33],[44,1,44,14],[44,19,44,23],[44,24,44,30],[44,31,44,33],[33,0,37,1],[33,25,33,31],[34,3,34,9],[35,3,35,9],[36,2,39,2],[36,3,36,4],[36,5,36,22],[36,25,36,31],[37,5,39,22],[28,0,30,0],[28,2,28,4],[28,6,30,14],[28,15,30,23],[28,24,28,31],[29,2,29,4],[29,24,29,31],[30,2,30,4],[30,24,30,31],[26,15,26,22],[26,24,26,31],[27,2,27,4],[27,6,27,13],[27,15,27,22],[27,24,27,31],[24,2,24,4],[24,6,24,13],[24,15,24,22],[24,24,24,31],[25,0,27,0],[25,2,25,4],[25,6,25,13],[25,15,25,22],[25,24,25,31],[26,2,26,4],[22,6,22,13],[22,15,22,22],[22,24,22,31],[23,2,23,4],[23,6,23,13],[23,15,23,22],[23,24,23,31],[20,0,22,0],[20,2,20,4],[20,6,20,13],[20,15,20,22],[20,24,20,31],[21,2,21,4],[21,6,21,13],[21,15,21,22],[21,24,21,31],[22,2,22,4],[26,6,26,13],[17,0,17,5],[17,7,17,31],[19,0,19,5],[19,8,19,12],[19,17,19,21],[19,26,19,30],[13,6,13,13],[13,21,13,31],[14,21,14,31],[15,0,15,5],[15,7,15,13],[16,0,16,5],[16,7,16,13],[10,18,10,23],[11,6,12,13],[11,14,12,14],[11,21,11,31],[12,1,12,2],[12,21,12,31],[1,25,2,26],[4,24,4,25],[4,27,4,28],[4,30,4,31],[6,5,6,12],[8,0,9,9],[9,18,9,19]]}
[null,null,null,null,null,null,null,null,null,null,null,null,null,null,null,null,null,null,null,null,null,null,null,null,null,null,null,null,"※弊社記入欄"]
[]
[null,null,null,null,null,null,null,null,null,null,null,null,"請",null,null,null,null,"求",null,null,null,null,"書"]
[]
[null,null,null,null,null,null,null,null,null,null,null,null,null,null,null,null,null,null,null,null,null,null,"令","和",5,null,"年",10,null,"月",15,null,"日"]
[]
[null,"株式会社",null,null,null,"キクチコーポレーション",null,null,null,null,null,null,null,"御中"]
[null,null,null,null,null,null,null,null,null,null,null,null,null,null,null,null,null,null,null,null,null,null,null,null,"協力会社ｺｰﾄﾞ：",null,null,null,2,1,0,0,4]
["   下記の通り請求いたします｡",null,null,null,null,null,null,null,null,null,null,null,null,null,null,null,null,null,"登録番号："]
[null,null,null,null,null,null,null,null,null,null,null,null,null,null,null,null,null,null,"T",null,5,0,1,2,4,0,1,0,1,4,4,4,0]
[null,null,null,null,null,null,null,null,null,null,null,null,null,null,null,null,null,null,"請求者住所･氏名･印"]
[null,"請","求","金","額",null,{"$f":"SUM(P28)","v":60876},null,null,null,null,null,null,null,null,null,null,null,null,"住所",null,"〒181-0011　三鷹市井口3-19-23"]
[null,{"$f":"AB5","v":10},null,"月","分"]
[null,null,null,null,null,null,null,null,null,null,null,null,null,null,null,null,null,null,null,"氏名",null,"株式会社 カナエコーポレーション"]
[null,null,null,null,null,null,null,null,null,null,null,null,null,null,null,null,null,null,null,null,null,"　　　　　　　　　　　　　　　　印"]
["工 事 番 号",null,null,null,null,null,null,"07-○○"]
["工 事 略 称",null,null,null,null,null,null,"○○水道"]
["工 事 件 名",null,null,null,null,null,null,"○○地区配水管第□号"]
[]
["項      目",null,null,null,null,null,null,null,"前回迄",null,null,null,null,null,null,null,null,"今回",null,null,null,null,null,null,null,null,"累計"]
["①",null,"契約金額",null,null,null,{"$f":"+'総括表 (記入例) (複数税率)'!G37","v":83000},null,null,null,null,null,null,null,null,{"$f":"総括表!G33","v":0},null,null,null,null,null,null,null,null,{"$f":"SUM(G21,P21)","v":83000}]
[null,null,"消費税",null,null,null,{"$f":"+'総括表 (記入例) (複数税率)'!G38","v":5240},null,null,null,null,null,null,null,null,{"$f":"INT(P21*10%)","v":0},null,null,null,null,null,null,null,null,{"$f":"SUM(G22,P22)","v":5240}]
[null,null,"契約合計",null,null,null,{"$f":"SUM(G21:N22)","v":88240},null,null,null,null,null,null,null,null,{"$f":"SUM(P21:W22)","v":0},null,null,null,null,null,null,null,null,{"$f":"SUM(Y21:AF22)","v":88240}]
["②",null,"出来高金額",null,null,null,{"$f":"+'総括表 (記入例) (複数税率)'!I35","v":17000},null,null,null,null,null,null,null,null,{"$f":"+'総括表 (記入例) (複数税率)'!K35","v":61000},null,null,null,null,null,null,null,null,{"$f":"SUM(G24,P24)","v":78000}]
["③",null,"保留金額",null,null,null,{"$f":"+'総括表 (記入例) (複数税率)'!I36","v":-850},null,null,null,null,null,null,null,null,{"$f":"+'総括表 (記入例) (複数税率)'!K36","v":-3050},null,null,null,null,null,null,null,null,{"$f":"SUM(G25,P25)","v":-3900}]
["④",null,"請求金額       ②＋③",null,null,null,{"$f":"+'総括表 (記入例) (複数税率)'!I37","v":16150},null,null,null,null,null,null,null,null,{"$f":"SUM(P24:W25)","v":57950},null,null,null,null,null,null,null,null,{"$f":"SUM(Y24:AF25)","v":74100}]
[null,null,"消費税",null,null,null,{"$f":"+'総括表 (記入例) (複数税率)'!I38","v":1577},null,null,null,null,null,null,null,null,{"$f":"+AD56+AD57+AD58","v":2926},null,null,null,null,null,null,null,null,{"$f":"SUM(G27,P27)","v":4503}]
[null,null,"請求合計",null,null,null,{"$f":"SUM(G26:N27)","v":17727},null,null,null,null,null,null,null,null,{"$f":"SUM(P26:W27)","v":60876},null,null,null,null,null,null,null,null,{"$f":"SUM(Y26:AG27)","v":78603}]
["⑤",null,"残    高        ①－④",null,null,null,null,null,null,null,null,null,null,null,null,null,null,null,null,null,null,null,null,null,{"$f":"Y21-Y26","v":8900}]
[null,null,"消費税        ①－④",null,null,null,null,null,null,null,null,null,null,null,null,null,null,null,null,null,null,null,null,null,{"$f":"Y22-Y27","v":737}]
[null,null,"残高合計        ①－④",null,null,null,null,null,null,null,null,null,null,null,null,null,null,null,null,null,null,null,null,null,{"$f":"SUM(Y29:AF30)","v":9637}]
[]
[null,null,"埼","玉","り","そ","な",null,null,null,"銀","行","・","金","庫","・","組","合",null,0,0,1,7]
["振込銀行",null,"和","光",null,null,null,null,null,null,null,null,null,null,null,"本","・","支","店",null,4,8,7,null,null,"毎月１５日締切"]
[null,null,null,"預金種別",null,null,null,null,null,null,null,null,"（","普","通","１","・","当","座","２","）",null,1,null,null,null,null,null,null,null,null,null,null,null," "]
[null,null,null,"口座番号",null,null,null,null,null,null,null,null,null,null,null,null,1,2,3,4,5,"＃","＃"]
[null,null,"口座名義","ﾌﾘｶﾞﾅ",null,"ｶ)ｶﾅｴｺｰﾎﾟﾚｰｼｮﾝ",null,null,null,null,null,null,null,null,null,null,null,null,null,null,null,null,null,null,null,"毎月２０日必着"]
[null,null,null,null,null,"株式会社カナエコーポレーション"]
[]
[]
[]
[]
[null,null,null,null,null,null,null,null,null,null,null,null,null,null,null,null,null,null,null,null,null,null,null,null,null,null,null,null,null,null,null,null,null,null,null,null," "]
[null,"　社是",null,null,null,null,null,null,null,null,null,null,null,null,null,null,null,null,null,"押印欄（弊社利用）"]
[null,"　心にゆとりと豊かさを"]
[]
[null,"　スローガン"]
[]
[null,"「顧客感動」・「コンプライアンス行動」"]
[]
[null,"　お客様と社会から信頼される企業へ"]
[]
[]
[null,null,null,null,null,null,null,null,null,null,null,null,null,null,null,null,"（税率ごとに区分した記載をお願いします）"]
[null,null,null,null,null,null,null,null,null,null,null,null,null,null,null,null,"今回請求金額",null,null,null,null,{"$f":"SUM(V56:Z58,AD56:AH58)","v":60876}]
[null,null,null,null,null,null,null,null,null,null,null,null,null,null,null,null,"うち消費税率10％",null,null,null,null,{"$f":"30000-30000*5%","v":28500},null,null,null,null,"消費税",null,null,{"$f":"+V56*10%","v":2850},null,null,null,null,{"$f":"+V56+AD56","v":31350}]
[null,null,null,null,null,null,null,null,null,null,null,null,null,null,null,null,"うち消費税率8％",null,null,null,null,{"$f":"1000-1000*5%","v":950},null,null,null,null,"消費税",null,null,{"$f":"+V57*8%","v":76},null,null,null,null,{"$f":"+V57+AD57","v":1026}]
[null,null,null,null,null,null,null,null,null,null,null,null,null,null,null,null,"対象外",null,null,null,null,{"$f":"30000-30000*5%","v":28500},null,null,null,null,"消費税",null,null,{"$f":"0","v":0},null,null,null,null,28500]
[null,null,null,null,null,null,null,null,null,null,null,null,null,null,null,null,null,null,null,null,null,null,"株式会社 キクチコーポレーション",null,null,null,null,null,null,null,null,null,null,null,{"$f":"SUM(AI56:AI58)","v":60876},{"$f":"+G12-AI59","v":0}]

{"sheet":"総括表 (記入例) (複数税率)","index":8,"n_rows":44,"n_cols":14,"rows_kept":44,"cut":false,"hidden":false,"merged":[[36,0,36,2],[37,0,37,2],[38,0,38,2],[43,0,43,4],[43,9,43,13],[1,13,2,13],[31,0,31,2],[32,0,32,2],[33,0,33,2],[34,0,34,2],[35,0,35,2],[0,2,0,12],[1,0,3,2],[1,3,2,6],[1,7,2,8],[1,9,2,10],[1,11,2,12]]}
[null,null,"総括表",null,null,null,null,null,null,null,null,null,null,"No. 1"]
["工　　　　種",null,null,"契　　　　　約",null,null,null,"前回迄出来高",null,"今回出来高",null,"累計出来高",null,"残　　　高"]
[]
[null,null,null,"数　量","単位","単　価","金　　額","数　量","金　　額","数　量","金　　額","数　量","金　　額","金　　額"]
[null,null,"工事費"]
[null,null,"内訳①、内訳②",1,"式",null,{"$f":"+'内訳明細書 (記入例) (複数税率)'!G8","v":50000},{"$f":"IF(I6=0,0,1)","v":1},{"$f":"+'内訳明細書 (記入例) (複数税率)'!I8","v":15000},{"$f":"IF(K6=0,0,1)","v":1},{"$f":"+'内訳明細書 (記入例) (複数税率)'!K8","v":30000},{"$f":"IF(M6=0,0,1)","v":1},{"$f":"+I6+K6","v":45000},{"$f":"+G6-M6","v":5000}]
[null,null,"小計",null,null,null,{"$f":"SUM(G6)","v":50000},null,{"$f":"SUM(I6)","v":15000},null,{"$f":"SUM(K6)","v":30000},null,{"$f":"SUM(M6)","v":45000},{"$f":"SUM(N6)","v":5000}]
[]
[null,null,"内訳③※軽減税率",1,"式",null,{"$f":"+'内訳明細書 (記入例) (複数税率)'!G11","v":3000},{"$f":"IF(I9=0,0,1)","v":1},{"$f":"+'内訳明細書 (記入例) (複数税率)'!I10","v":2000},1,{"$f":"+'内訳明細書 (記入例) (複数税率)'!K10","v":1000},1,{"$f":"+I9+K9","v":3000},{"$f":"+G9-M9","v":0}]
[null,null,"内訳④不課税",1,"式",null,{"$f":"+'内訳明細書 (記入例) (複数税率)'!G15","v":30000},0,{"$f":"+'内訳明細書 (記入例) (複数税率)'!I14","v":0},1,{"$f":"+'内訳明細書 (記入例) (複数税率)'!K14","v":30000},1,30000,0]
[]
[null,null,"計",null,null,null,{"$f":"SUM(G7+G9+G10)","v":83000},null,{"$f":"SUM(I7+I9+I10)","v":17000},null,{"$f":"SUM(K7+K9+K10)","v":61000},null,{"$f":"SUM(M7+M9+M10)","v":78000},{"$f":"SUM(N7+N9+N10)","v":5000}]
[]
[]
[]
[]
[]
[]
[]
[]
[]
[]
[]
[]
[]
[]
[]
[]
[]
[]
[]
["契約金額",null,null,null,null,null,{"$f":"SUM(G12)","v":83000}]
["今回変更"]
["契約累計",null,null,null,null,null,{"$f":"SUM(G32:G33)","v":83000}]
["出来高金額",null,null,null,null,null,null,null,{"$f":"SUM(I12)","v":17000},null,{"$f":"SUM(K12)","v":61000},null,{"$f":"SUM(I35,K35)","v":78000},{"$f":"SUM(G34-M35)","v":5000}]
["保留金額",null,null,null,null,null,null,null,{"$f":"-I35*0.05","v":-850},null,{"$f":"-K35*0.05","v":-3050},null,{"$f":"SUM(I36,K36)","v":-3900},{"$f":"-(M36)","v":3900}]
["請求金額",null,null,null,null,null,{"$f":"G34","v":83000},null,{"$f":"SUM(I35:I36)","v":16150},null,{"$f":"SUM(K35:K36)","v":57950},null,{"$f":"SUM(I37+K37)","v":74100},{"$f":"SUM(N35:N36)","v":8900}]
["消 費 税",null,null,null,null,null,{"$f":"INT(G7*10%)+INT(G9*8%)+INT(G10*0)","v":5240},null,{"$f":"I37*(I7*10%+I9*8%+I10*0%)/(I7+I9+I10)","v":1577},null,{"$f":"K37*(K7*10%+K9*8%+K10*0%)/(K7+K9+K10)","v":2926},null,{"$f":"I38+K38","v":4503},{"$f":"G38-M38","v":737}]
["合    計",null,null,null,null,null,{"$f":"SUM(G37:G38)","v":88240},null,{"$f":"SUM(I37:I38)","v":17727},null,{"$f":"SUM(K37:K38)","v":60876},null,{"$f":"SUM(M37:M38)","v":78603},{"$f":"SUM(N37:N38)","v":9637}]
[null,null,"※軽減税率対象項目はその旨を示してください"]
[]
[]
[]
[null,null,null,null,null,null,null,null,null,"株式会社 キクチコーポレーション"]

{"sheet":"内訳明細書 (記入例) (複数税率)","index":9,"n_rows":44,"n_cols":14,"rows_kept":44,"cut":false,"hidden":false,"merged":[[1,13,2,13],[43,0,43,4],[0,2,0,12],[1,0,3,2],[1,3,2,6],[1,7,2,8],[1,9,2,10],[1,11,2,12],[43,9,43,13]]}
[null,null,"内訳明細書",null,null,null,null,null,null,null,null,null,null,"No. 1"]
["工　　　　種",null,null,"契　　　　　約",null,null,null,"前回迄出来高",null,"今回出来高",null,"累計出来高",null,"残　　　高"]
[]
[null,null,null,"数　量","単位","単　価","金　　額","数　量","金　　額","数　量","金　　額","数　量","金　　額","金　　額"]
[null,null,"工事費"]
[null,null,"内訳①",9,"回",5000,{"$f":"+D6*F6","v":45000},3,{"$f":"+H6*F6","v":15000},5,{"$f":"+J6*F6","v":25000},{"$f":"+H6+J6","v":8},{"$f":"+I6+K6","v":40000},{"$f":"+G6-M6","v":5000}]
[null,null,"内訳②",10,"箇所",500,{"$f":"+D7*F7","v":5000},0,{"$f":"+H7*F7","v":0},10,{"$f":"+J7*F7","v":5000},{"$f":"+H7+J7","v":10},{"$f":"+I7+K7","v":5000},{"$f":"+G7-M7","v":0}]
[null,null,"小計",null,null,null,{"$f":"SUM(G6:G7)","v":50000},null,{"$f":"SUM(I6:I7)","v":15000},null,{"$f":"SUM(K6:K7)","v":30000},null,{"$f":"SUM(M6:M7)","v":45000},{"$f":"SUM(N6:N7)","v":5000}]
[]
[null,null,"内訳③　※軽減税率対象",15,"本",200,{"$f":"+D10*F10","v":3000},10,{"$f":"+H10*F10","v":2000},5,{"$f":"+J10*F10","v":1000},{"$f":"+H10+J10","v":15},{"$f":"+I10+K10","v":3000},{"$f":"+G10-M10","v":0}]
[null,null,"小計",null,null,null,{"$f":"SUM(G10)","v":3000},null,{"$f":"SUM(I10)","v":2000},null,{"$f":"SUM(K10)","v":1000},null,{"$f":"SUM(M10)","v":3000},{"$f":"SUM(N10)","v":0}]
[]
[]
[null,null,"　内訳④　不課税",1,"箇所",30000,{"$f":"+D14*F14","v":30000},0,{"$f":"+H14*F14","v":0},1,{"$f":"+J14*F14","v":30000},{"$f":"+H14+J14","v":1},{"$f":"+I14+K14","v":30000},{"$f":"+G14-M14","v":0}]
[null,null,"小計",null,null,null,{"$f":"SUM(G14)","v":30000},null,{"$f":"SUM(I14)","v":0},null,{"$f":"SUM(K14)","v":30000},null,{"$f":"SUM(M14)","v":30000},{"$f":"SUM(N14)","v":0}]
[]
[]
[]
[]
[]
[]
[]
[]
[]
[]
[]
[]
[]
[]
[]
[]
[]
[]
[]
[]
[]
[]
[]
[]
[]
[]
[]
[]
[null,null,null,null,null,null,null,null,null,"株式会社 キクチコーポレーション"]

{"sheet":"労務外注 (保留金解除方法)　修正中","index":10,"n_rows":54,"n_cols":37,"rows_kept":54,"cut":false,"hidden":true,"merged":[[48,1,48,14],[48,19,49,30],[48,31,49,33],[53,0,53,13],[53,25,53,32],[50,1,50,14],[50,19,51,23],[50,24,51,30],[50,31,51,33],[52,19,52,23],[52,24,52,30],[52,31,52,33],[43,31,43,33],[45,19,46,23],[45,24,46,30],[45,31,46,33],[46,1,46,14],[44,1,44,14],[44,19,44,33],[43,1,43,14],[43,19,43,23],[43,24,43,30],[30,2,30,4],[30,24,30,31],[33,0,37,1],[33,25,33,31],[34,3,34,9],[35,3,35,9],[36,2,39,2],[36,3,36,4],[36,5,36,22],[36,25,36,31],[37,5,39,22],[28,0,30,0],[28,2,28,4],[28,6,30,14],[28,15,30,23],[28,24,28,31],[25,0,27,0],[25,2,25,4],[25,6,25,13],[25,15,25,22],[25,24,25,31],[26,2,26,4],[27,15,27,22],[27,24,27,31],[29,2,29,4],[29,24,29,31],[22,24,22,31],[26,6,26,13],[26,15,26,22],[26,24,26,31],[27,2,27,4],[23,2,23,4],[23,6,23,13],[23,15,23,22],[23,24,23,31],[24,2,24,4],[24,6,24,13],[24,15,24,22],[24,24,24,31],[27,6,27,13],[19,0,19,5],[19,8,19,12],[19,17,19,21],[19,26,19,30],[20,0,22,0],[20,2,20,4],[20,6,20,13],[20,15,20,22],[20,24,20,31],[21,2,21,4],[21,6,21,13],[21,15,21,22],[21,24,21,31],[22,2,22,4],[22,6,22,13],[22,15,22,22],[4,27,4,28],[4,30,4,31],[6,5,6,12],[17,0,17,5],[17,7,17,31],[11,6,12,13],[11,14,12,14],[11,21,11,31],[12,1,12,2],[12,21,12,31],[13,21,13,31],[14,21,14,31],[15,0,15,5],[15,7,15,13],[16,0,16,5],[16,7,16,13],[8,0,9,9],[9,18,9,23],[9,24,9,26],[1,25,2,26],[4,24,4,25]]}
[null,null,null,null,null,null,null,null,null,null,null,null,null,null,null,null,null,null,null,null,null,null,null,null,null,null,null,null,"※弊社記入欄"]
[]
[null,null,null,null,null,null,null,null,null,null,null,null,"請",null,null,null,null,"求",null,null,null,null,"書"]
[]
[null,null,null,null,null,null,null,null,null,null,null,null,null,null,null,null,null,null,null,null,null,null,"令","和",2,null,"年",2,null,"月",20,null,"日"]
[]
[null,"株式会社",null,null,null,"ホ   ー   プ ",null,null,null,null,null,null,null,"御中"]
[]
["   下記の通り請求いたします｡"]
[null,null,null,null,null,null,null,null,null,null,null,null,null,null,null,null,null,null,"請求者住所･氏名･印",null,null,null,null,null,"ｺｰﾄﾞNO."]
[]
[null,"請","求","金","額",null,{"$f":"SUM(P28)","v":{"$error":"#REF!"}},null,null,null,null,null,null,null,null,null,null,null,null,"住所",null,"東京都練馬区〇丁目〇番"]
[null,{"$f":"AB5","v":2},null,"月","分"]
[null,null,null,null,null,null,null,null,null,null,null,null,null,null,null,null,null,null,null,"氏名",null,"ＡＢＣ株式会社"]
[null,null,null,null,null,null,null,null,null,null,null,null,null,null,null,null,null,null,null,null,null,"　　　　　　　　　　　　　　　　印"]
["工 事 番 号",null,null,null,null,null,null,"31-○○-○○"]
["工 事 略 称",null,null,null,null,null,null,"○○水道"]
["工 事 件 名",null,null,null,null,null,null,"配水本管（500㎜）移設工事"]
[]
["項      目",null,null,null,null,null,null,null,"前回迄",null,null,null,null,null,null,null,null,"今回",null,null,null,null,null,null,null,null,"累計"]
["①",null,"契約金額",null,null,null,{"$f":"'総括表 (保留金解除方法)修正中'!G34","v":{"$error":"#REF!"}},null,null,null,null,null,null,null,null,{"$f":"'総括表 (保留金解除方法)修正中'!G35","v":{"$error":"#REF!"}},null,null,null,null,null,null,null,null,{"$f":"SUM(G21,P21)","v":{"$error":"#REF!"}}]
[null,null,"消費税",null,null,null,{"$f":"INT(G21*10%)","v":{"$error":"#REF!"}},null,null,null,null,null,null,null,null,{"$f":"INT(P21*10%)","v":{"$error":"#REF!"}},null,null,null,null,null,null,null,null,{"$f":"SUM(G22,P22)","v":{"$error":"#REF!"}}]
[null,null,"契約合計",null,null,null,{"$f":"SUM(G21:N22)","v":{"$error":"#REF!"}},null,null,null,null,null,null,null,null,{"$f":"SUM(P21:W22)","v":{"$error":"#REF!"}},null,null,null,null,null,null,null,null,{"$f":"SUM(Y21:AF22)","v":{"$error":"#REF!"}}]
["②",null,"出来高金額",null,null,null,{"$f":"'総括表 (保留金解除方法)修正中'!I37","v":{"$error":"#REF!"}},null,null,null,null,null,null,null,null,{"$f":"SUM('総括表 (保留金解除方法)修正中'!K37)","v":{"$error":"#REF!"}},null,null,null,null,null,null,null,null,{"$f":"SUM(G24,P24)","v":{"$error":"#REF!"}}]
["③",null,"保留金額",null,null,null,{"$f":"SUM('総括表 (保留金解除方法)修正中'!I38)","v":-5000},null,null,null,null,null,null,null,null,{"$f":"SUM('総括表 (保留金解除方法)修正中'!K38)","v":-15000},null,null,null,null,null,null,null,null,{"$f":"SUM(G25,P25)","v":-20000}]
["④",null,"請求金額       ②＋③",null,null,null,{"$f":"SUM(G24:N25)","v":{"$error":"#REF!"}},null,null,null,null,null,null,null,null,{"$f":"SUM(P24:W25)","v":{"$error":"#REF!"}},null,null,null,null,null,null,null,null,{"$f":"SUM(Y24:AF25)","v":{"$error":"#REF!"}}]
[null,null,"消費税",null,null,null,{"$f":"'総括表 (保留金解除方法)修正中'!I40","v":{"$error":"#REF!"}},null,null,null,null,null,null,null,null,{"$f":"INT(P26*10%)","v":{"$error":"#REF!"}},null,null,null,null,null,null,null,null,{"$f":"SUM(G27,P27)","v":{"$error":"#REF!"}}]
[null,null,"請求合計",null,null,null,{"$f":"SUM(G26:N27)","v":{"$error":"#REF!"}},null,null,null,null,null,null,null,null,{"$f":"SUM(P26:W27)","v":{"$error":"#REF!"}},null,null,null,null,null,null,null,null,{"$f":"SUM(Y26:AG27)","v":{"$error":"#REF!"}}]
["⑤",null,"残    高        ①－④",null,null,null,null,null,null,null,null,null,null,null,null,null,null,null,null,null,null,null,null,null,{"$f":"Y21-Y26","v":{"$error":"#REF!"}}]
[null,null,"消費税        ①－④",null,null,null,null,null,null,null,null,null,null,null,null,null,null,null,null,null,null,null,null,null,{"$f":"Y22-Y27","v":{"$error":"#REF!"}}]
[null,null,"残高合計        ①－④",null,null,null,null,null,null,null,null,null,null,null,null,null,null,null,null,null,null,null,null,null,{"$f":"SUM(Y29:AF30)","v":{"$error":"#REF!"}}]
[]
[null,null,null,null,null,"〇","〇","〇",null,null,"銀","行","・","金","庫","・","組","合",null,1,2,3,4]
["振込銀行",null,null,null,null,"×","×","×",null,null,null,null,null,null,null,"本","・","支","店",null,5,6,7,null,null,"毎月２０日締切"]
[null,null,null,"預金種別",null,null,null,null,null,null,null,null,"（","普","通","１","・","当","座","２","）",null,1,null,null,null,null,null,null,null,null,null,null,null," "]
[null,null,null,"口座番号",null,null,null,null,null,null,null,null,null,null,null,null,1,2,3,4,5,6,7]
[null,null,"口座名義","ﾌﾘｶﾞﾅ",null,"エービーシー　カブシキガイシャ",null,null,null,null,null,null,null,null,null,null,null,null,null,null,null,null,null,null,null,"毎月２５日必着"]
[null,null,null,null,null,"ＡＢＣ株式会社"]
[]
[]
[]
[]
[null,null,null,null,null,null,null,null,null,null,null,null,null,null,null,null,null,null,null,null,null,null,null,null,null,null,null,null,null,null,null,null,null,null,null,null," "]
[null,"　社是",null,null,null,null,null,null,null,null,null,null,null,null,null,null,null,null,null,"押印欄（弊社利用）"]
[null,"　心にゆとりと豊かさを"]
[]
[null,"　スローガン"]
[]
[null,"「顧客感動」・「コンプライアンス行動」"]
[]
[null,"　お客様と社会から信頼される企業へ"]
[]
[]
["[文書番号(経～053-1)]",null,null,null,null,null,null,null,null,null,null,null,null,null,null,null,null,null,null,null,null,null,null,null,null,"株式会社 ホ ー プ"]

{"sheet":"総括表 (保留金解除方法)修正中","index":11,"n_rows":43,"n_cols":14,"rows_kept":43,"cut":false,"hidden":true,"merged":[[38,0,38,2],[39,0,39,2],[40,0,40,2],[42,0,42,4],[42,11,42,13],[1,13,2,13],[33,0,33,2],[34,0,34,2],[35,0,35,2],[36,0,36,2],[37,0,37,2],[0,2,0,12],[1,0,3,2],[1,3,2,6],[1,7,2,8],[1,9,2,10],[1,11,2,12]]}
[null,null,"総括表",null,null,null,null,null,null,null,null,null,null,"No. 1"]
["工　　　　種",null,null,"契　　　　　約",null,null,null,"前回迄出来高",null,"今回出来高",null,"累計出来高",null,"残　　　高"]
[]
[null,null,null,"数　量","単位","単　価","金　　額","数　量","金　　額","数　量","金　　額","数　量","金　　額","金　　額"]
[]
[1,null,{"$f":"#REF!","v":{"$error":"#REF!"}},1,"式",null,{"$f":"#REF!","v":{"$error":"#REF!"}},1,{"$f":"#REF!","v":{"$error":"#REF!"}},0,{"$f":"#REF!","v":{"$error":"#REF!"}},1,{"$f":"#REF!","v":{"$error":"#REF!"}},{"$f":"SUM(G6-M6)","v":{"$error":"#REF!"}}]
[null,null,"小　　計",null,null,null,{"$f":"SUM(G6)","v":{"$error":"#REF!"}},null,{"$f":"SUM(I6)","v":{"$error":"#REF!"}},null,{"$f":"SUM(K6)","v":{"$error":"#REF!"}},null,{"$f":"SUM(M6)","v":{"$error":"#REF!"}},{"$f":"SUM(G7-M7)","v":{"$error":"#REF!"}}]
[]
[null,null,"法定福利費",1,"式",null,9000,1,4500,1,4500,0,{"$f":"K9+I9","v":9000},{"$f":"SUM(G9-M9)","v":0}]
[null,null,"合　　計　",null,null,null,{"$f":"SUM(G7,G9)","v":{"$error":"#REF!"}},null,{"$f":"SUM(I7,I9)","v":{"$error":"#REF!"}},null,{"$f":"SUM(K7,K9)","v":{"$error":"#REF!"}},null,{"$f":"SUM(M7,M9)","v":{"$error":"#REF!"}},{"$f":"SUM(G10-M10)","v":{"$error":"#REF!"}}]
[]
[null,null,"追加工事"]
[2,null,"押込口築造工",1,"式",null,{"$f":"#REF!","v":{"$error":"#REF!"}},0,{"$f":"#REF!","v":{"$error":"#REF!"}},1,{"$f":"#REF!","v":{"$error":"#REF!"}},1,{"$f":"#REF!","v":{"$error":"#REF!"}},{"$f":"SUM(G13-M13)","v":{"$error":"#REF!"}}]
[null,null,"法定福利費",1,"式",null,9000,0,0,1,9000,0,{"$f":"K14+I14","v":9000},{"$f":"SUM(G14-M14)","v":0}]
[null,null,"計　",null,null,null,{"$f":"SUM(G13:G14)","v":{"$error":"#REF!"}},null,{"$f":"SUM(I13:I14)","v":{"$error":"#REF!"}},null,{"$f":"SUM(K13:K14)","v":{"$error":"#REF!"}},null,{"$f":"SUM(M13:M14)","v":{"$error":"#REF!"}},{"$f":"SUM(G15-M15)","v":{"$error":"#REF!"}}]
[]
[null,null,"合　　計",null,null,null,{"$f":"SUM(G10,G15)","v":{"$error":"#REF!"}},null,{"$f":"SUM(I10,I15)","v":{"$error":"#REF!"}},null,{"$f":"SUM(K10,K15)","v":{"$error":"#REF!"}},null,{"$f":"SUM(M10,M15)","v":{"$error":"#REF!"}},{"$f":"SUM(G17-M17)","v":{"$error":"#REF!"}}]
[]
[]
[]
[]
[]
[]
[]
[]
[]
[]
[]
[]
[]
[]
[]
[]
["契約金額",null,null,null,null,null,{"$f":"G10","v":{"$error":"#REF!"}}]
["今回変更",null,null,null,null,null,{"$f":"G15","v":{"$error":"#REF!"}}]
["契約累計",null,null,null,null,null,{"$f":"SUM(G34:G35)","v":{"$error":"#REF!"}}]
["出来高金額",null,null,null,null,null,null,null,{"$f":"I10","v":{"$error":"#REF!"}},null,{"$f":"K17","v":{"$error":"#REF!"}},null,{"$f":"M17","v":{"$error":"#REF!"}},{"$f":"SUM(G36-M37)","v":{"$error":"#REF!"}}]
["保留金額",null,null,null,null,null,null,null,-5000,null,-15000,null,{"$f":"SUM(I38,K38)","v":-20000},{"$f":"-(M38)","v":20000}]
["請求金額",null,null,null,null,null,{"$f":"G36","v":{"$error":"#REF!"}},null,{"$f":"SUM(I37:I38)","v":{"$error":"#REF!"}},null,{"$f":"SUM(K37:K38)","v":{"$error":"#REF!"}},null,{"$f":"SUM(I39+K39)","v":{"$error":"#REF!"}},{"$f":"SUM(N37:N38)","v":{"$error":"#REF!"}}]
["消 費 税",null,null,null,null,null,{"$f":"INT(G39*10%)","v":{"$error":"#REF!"}},null,{"$f":"INT(I39*10%)","v":{"$error":"#REF!"}},null,{"$f":"INT(K39*10%)","v":{"$error":"#REF!"}},null,{"$f":"I40+K40","v":{"$error":"#REF!"}},{"$f":"G40-M40","v":{"$error":"#REF!"}}]
["合    計",null,null,null,null,null,{"$f":"SUM(G39:G40)","v":{"$error":"#REF!"}},null,{"$f":"SUM(I39:I40)","v":{"$error":"#REF!"}},null,{"$f":"SUM(K39:K40)","v":{"$error":"#REF!"}},null,{"$f":"SUM(M39:M40)","v":{"$error":"#REF!"}},{"$f":"SUM(N39:N40)","v":{"$error":"#REF!"}}]
[]
["[文書番号(経～053-2)]",null,null,null,null,null,null,null,null,null,null,"株式会社 ホ ー プ"]